BEGIN:VCALENDAR
VERSION:2.0
PRODID:-//Township of Chapple - ECPv6.15.20//NONSGML v1.0//EN
CALSCALE:GREGORIAN
METHOD:PUBLISH
X-ORIGINAL-URL:https://chapple.on.ca
X-WR-CALDESC:Events for Township of Chapple
REFRESH-INTERVAL;VALUE=DURATION:PT1H
X-Robots-Tag:noindex
X-PUBLISHED-TTL:PT1H
BEGIN:VTIMEZONE
TZID:America/Toronto
BEGIN:DAYLIGHT
TZOFFSETFROM:-0500
TZOFFSETTO:-0400
TZNAME:EDT
DTSTART:20250309T070000
END:DAYLIGHT
BEGIN:STANDARD
TZOFFSETFROM:-0400
TZOFFSETTO:-0500
TZNAME:EST
DTSTART:20251102T060000
END:STANDARD
BEGIN:DAYLIGHT
TZOFFSETFROM:-0500
TZOFFSETTO:-0400
TZNAME:EDT
DTSTART:20260308T070000
END:DAYLIGHT
BEGIN:STANDARD
TZOFFSETFROM:-0400
TZOFFSETTO:-0500
TZNAME:EST
DTSTART:20261101T060000
END:STANDARD
BEGIN:DAYLIGHT
TZOFFSETFROM:-0500
TZOFFSETTO:-0400
TZNAME:EDT
DTSTART:20270314T070000
END:DAYLIGHT
BEGIN:STANDARD
TZOFFSETFROM:-0400
TZOFFSETTO:-0500
TZNAME:EST
DTSTART:20271107T060000
END:STANDARD
END:VTIMEZONE
BEGIN:VEVENT
DTSTART;TZID=America/Toronto:20260216T080000
DTEND;TZID=America/Toronto:20260216T170000
DTSTAMP:20260422T203440
CREATED:20260126T213705Z
LAST-MODIFIED:20260126T213940Z
UID:1090897-1771228800-1771261200@chapple.on.ca
SUMMARY:Notice of Closure- Family Day
DESCRIPTION:🎉 Happy Family Day! \nThe Municipal Office\, Garage\, and Landfill will be CLOSED on\nMonday\, February 16\, 2026 in observance of Family Day. \nRegular hours will resume the following day.
URL:https://chapple.on.ca/event/closure-family-day/
END:VEVENT
BEGIN:VEVENT
DTSTART;TZID=America/Toronto:20260225T180000
DTEND;TZID=America/Toronto:20260225T220000
DTSTAMP:20260422T203440
CREATED:20260126T212128Z
LAST-MODIFIED:20260126T213923Z
UID:1090892-1772042400-1772056800@chapple.on.ca
SUMMARY:Regular Council Meeting
DESCRIPTION:🗓️ Meeting Date: February 25th\, 2026 \n🕕 Time: 6:00 PM \n \n📍 Location: 54 Barwick Rd \n📄 Agenda Available: Friday before the meeting \n📣 Council Meeting Agenda \nThe agenda for the upcoming council meeting will be posted Wednesday \, January 25th\, 2026. Be sure to check back then so you can stay informed and prepared. Click here to view the Agenda.
URL:https://chapple.on.ca/event/council-meeting/
END:VEVENT
END:VCALENDAR