BEGIN:VCALENDAR
VERSION:2.0
PRODID:-//Township of Chapple - ECPv6.15.20//NONSGML v1.0//EN
CALSCALE:GREGORIAN
METHOD:PUBLISH
X-ORIGINAL-URL:https://chapple.on.ca
X-WR-CALDESC:Events for Township of Chapple
REFRESH-INTERVAL;VALUE=DURATION:PT1H
X-Robots-Tag:noindex
X-PUBLISHED-TTL:PT1H
BEGIN:VTIMEZONE
TZID:America/Toronto
BEGIN:DAYLIGHT
TZOFFSETFROM:-0500
TZOFFSETTO:-0400
TZNAME:EDT
DTSTART:20240310T070000
END:DAYLIGHT
BEGIN:STANDARD
TZOFFSETFROM:-0400
TZOFFSETTO:-0500
TZNAME:EST
DTSTART:20241103T060000
END:STANDARD
BEGIN:DAYLIGHT
TZOFFSETFROM:-0500
TZOFFSETTO:-0400
TZNAME:EDT
DTSTART:20250309T070000
END:DAYLIGHT
BEGIN:STANDARD
TZOFFSETFROM:-0400
TZOFFSETTO:-0500
TZNAME:EST
DTSTART:20251102T060000
END:STANDARD
BEGIN:DAYLIGHT
TZOFFSETFROM:-0500
TZOFFSETTO:-0400
TZNAME:EDT
DTSTART:20260308T070000
END:DAYLIGHT
BEGIN:STANDARD
TZOFFSETFROM:-0400
TZOFFSETTO:-0500
TZNAME:EST
DTSTART:20261101T060000
END:STANDARD
BEGIN:DAYLIGHT
TZOFFSETFROM:-0500
TZOFFSETTO:-0400
TZNAME:EDT
DTSTART:20270314T070000
END:DAYLIGHT
BEGIN:STANDARD
TZOFFSETFROM:-0400
TZOFFSETTO:-0500
TZNAME:EST
DTSTART:20271107T060000
END:STANDARD
END:VTIMEZONE
BEGIN:VEVENT
DTSTART;TZID=America/Toronto:20251224T080000
DTEND;TZID=America/Toronto:20260101T170000
DTSTAMP:20260422T222415
CREATED:20251205T161000Z
LAST-MODIFIED:20251205T161000Z
UID:1090661-1766563200-1767286800@chapple.on.ca
SUMMARY:🎄 Holiday Closure Notice – Christmas Holidays
DESCRIPTION:Please be advised that the Township of Chapple Municipal Office and Garage will be closed from Wednesday\, December 24\, 2025 through Thursday\, January 1\, 2026 in observance of Christmas Holidays. \nRegular operations will resume on Thursday\, January 2\, 2026\, at 8:30 AM. \nWe wish all residents a joyful holiday season filled with peace\, warmth\, and togetherness. ❄️
URL:https://chapple.on.ca/event/%f0%9f%8e%84-holiday-closure-notice-christmas-holidays/
END:VEVENT
BEGIN:VEVENT
DTSTART;TZID=America/Toronto:20260101T080000
DTEND;TZID=America/Toronto:20260101T170000
DTSTAMP:20260422T222415
CREATED:20251205T161256Z
LAST-MODIFIED:20251205T161256Z
UID:1090842-1767254400-1767286800@chapple.on.ca
SUMMARY:📢 New Year’s Day Closure Notice
DESCRIPTION:Please be advised that the Township of Chapple Municipal Office and Garage will be closed from Wednesday\, December 24\, 2025 through Thursday\, January 1\, 2026 in observance of Christmas Holidays. \nRegular operations will resume on Thursday\, January 2\, 2026\, at 8:30 AM. \nWe wish all residents a joyful holiday season filled with peace\, warmth\, and togetherness. ❄️
URL:https://chapple.on.ca/event/%f0%9f%93%a2-new-years-day-closure-notice/
END:VEVENT
BEGIN:VEVENT
DTSTART;TZID=America/Toronto:20260128T180000
DTEND;TZID=America/Toronto:20260128T210000
DTSTAMP:20260422T222415
CREATED:20251205T161448Z
LAST-MODIFIED:20260126T212020Z
UID:1090844-1769623200-1769634000@chapple.on.ca
SUMMARY:Regular Council
DESCRIPTION:🗓️ Meeting Date: January 28th\, 2026 \n🕕 Time: 6:00 PM \n \n📍 Location: 54 Barwick Rd \n📄 Agenda Available: Friday before the meeting \n📣 Council Meeting Agenda \nThe agenda for the upcoming council meeting will be posted Wednesday \, January 28th\, 2026. Be sure to check back then so you can stay informed and prepared. Click here to view the Agenda.
URL:https://chapple.on.ca/event/regular-council/
END:VEVENT
END:VCALENDAR