BEGIN:VCALENDAR
VERSION:2.0
PRODID:-//Township of Chapple - ECPv6.15.20//NONSGML v1.0//EN
CALSCALE:GREGORIAN
METHOD:PUBLISH
X-WR-CALNAME:Township of Chapple
X-ORIGINAL-URL:https://chapple.on.ca
X-WR-CALDESC:Events for Township of Chapple
REFRESH-INTERVAL;VALUE=DURATION:PT1H
X-Robots-Tag:noindex
X-PUBLISHED-TTL:PT1H
BEGIN:VTIMEZONE
TZID:America/Toronto
BEGIN:DAYLIGHT
TZOFFSETFROM:-0500
TZOFFSETTO:-0400
TZNAME:EDT
DTSTART:20240310T070000
END:DAYLIGHT
BEGIN:STANDARD
TZOFFSETFROM:-0400
TZOFFSETTO:-0500
TZNAME:EST
DTSTART:20241103T060000
END:STANDARD
BEGIN:DAYLIGHT
TZOFFSETFROM:-0500
TZOFFSETTO:-0400
TZNAME:EDT
DTSTART:20250309T070000
END:DAYLIGHT
BEGIN:STANDARD
TZOFFSETFROM:-0400
TZOFFSETTO:-0500
TZNAME:EST
DTSTART:20251102T060000
END:STANDARD
BEGIN:DAYLIGHT
TZOFFSETFROM:-0500
TZOFFSETTO:-0400
TZNAME:EDT
DTSTART:20260308T070000
END:DAYLIGHT
BEGIN:STANDARD
TZOFFSETFROM:-0400
TZOFFSETTO:-0500
TZNAME:EST
DTSTART:20261101T060000
END:STANDARD
END:VTIMEZONE
BEGIN:VEVENT
DTSTART;TZID=America/Toronto:20251103T190000
DTEND;TZID=America/Toronto:20251103T220000
DTSTAMP:20260424T214247
CREATED:20251103T145816Z
LAST-MODIFIED:20251103T145816Z
UID:1090774-1762196400-1762207200@chapple.on.ca
SUMMARY:Special Council Meeting
DESCRIPTION:🗓️ Meeting Date: Monday\, November 3\, 2025 \n🕕 Time: 7:00 PM \n📍 Location: 54 Barwick Rd \n  \n📄Council Meeting Agenda 
URL:https://chapple.on.ca/event/special-council-meeting-11/
END:VEVENT
BEGIN:VEVENT
DTSTART;TZID=America/Toronto:20251111T080000
DTEND;TZID=America/Toronto:20251111T170000
DTSTAMP:20260424T214247
CREATED:20250825T175329Z
LAST-MODIFIED:20250825T175521Z
UID:1090659-1762848000-1762880400@chapple.on.ca
SUMMARY:🎖️ Closure Notice – Remembrance Day
DESCRIPTION:Please be advised that the Township of Chapple Municipal Office and Garage will be closed on Tuesday\, November 11\, 2025\, in honour of Remembrance Day. \nRegular operations will resume on Wednesday\, November 12\, 2025\, at 8:30 AM. \nOn this solemn day\, we pause to remember and honour the sacrifices of those who served and continue to serve our country. Lest we forget.
URL:https://chapple.on.ca/event/%f0%9f%8e%96%ef%b8%8f-closure-notice-remembrance-day/
END:VEVENT
BEGIN:VEVENT
DTSTART;TZID=America/Toronto:20251112T180000
DTEND;TZID=America/Toronto:20251112T210000
DTSTAMP:20260424T214247
CREATED:20250819T145632Z
LAST-MODIFIED:20250819T145954Z
UID:1090317-1762970400-1762981200@chapple.on.ca
SUMMARY:Regular Council Meeting
DESCRIPTION:🗓️ Meeting Date: November 12th\, 2025 \n🕕 Time: 6:00 PM \n \n📍 Location: 54 Barwick Rd \n📄 Agenda Available: Friday before the meeting \n📣 Council Meeting Agenda \nThe agenda for the upcoming council meeting will be posted Friday\, November 7th\, 2025. Be sure to check back then so you can stay informed and prepared. Click here to view the Agenda.
URL:https://chapple.on.ca/event/regular-council-meeting-16/
END:VEVENT
END:VCALENDAR