BEGIN:VCALENDAR
VERSION:2.0
PRODID:-//Township of Chapple - ECPv6.15.20//NONSGML v1.0//EN
CALSCALE:GREGORIAN
METHOD:PUBLISH
X-WR-CALNAME:Township of Chapple
X-ORIGINAL-URL:https://chapple.on.ca
X-WR-CALDESC:Events for Township of Chapple
REFRESH-INTERVAL;VALUE=DURATION:PT1H
X-Robots-Tag:noindex
X-PUBLISHED-TTL:PT1H
BEGIN:VTIMEZONE
TZID:America/Thunder_Bay
BEGIN:DAYLIGHT
TZOFFSETFROM:-0500
TZOFFSETTO:-0400
TZNAME:EDT
DTSTART:20220313T070000
END:DAYLIGHT
BEGIN:STANDARD
TZOFFSETFROM:-0400
TZOFFSETTO:-0500
TZNAME:EST
DTSTART:20221106T060000
END:STANDARD
BEGIN:DAYLIGHT
TZOFFSETFROM:-0500
TZOFFSETTO:-0400
TZNAME:EDT
DTSTART:20230312T070000
END:DAYLIGHT
BEGIN:STANDARD
TZOFFSETFROM:-0400
TZOFFSETTO:-0500
TZNAME:EST
DTSTART:20231105T060000
END:STANDARD
BEGIN:DAYLIGHT
TZOFFSETFROM:-0500
TZOFFSETTO:-0400
TZNAME:EDT
DTSTART:20240310T070000
END:DAYLIGHT
BEGIN:STANDARD
TZOFFSETFROM:-0400
TZOFFSETTO:-0500
TZNAME:EST
DTSTART:20241103T060000
END:STANDARD
END:VTIMEZONE
BEGIN:VTIMEZONE
TZID:America/Toronto
BEGIN:DAYLIGHT
TZOFFSETFROM:-0500
TZOFFSETTO:-0400
TZNAME:EDT
DTSTART:20220313T070000
END:DAYLIGHT
BEGIN:STANDARD
TZOFFSETFROM:-0400
TZOFFSETTO:-0500
TZNAME:EST
DTSTART:20221106T060000
END:STANDARD
BEGIN:DAYLIGHT
TZOFFSETFROM:-0500
TZOFFSETTO:-0400
TZNAME:EDT
DTSTART:20230312T070000
END:DAYLIGHT
BEGIN:STANDARD
TZOFFSETFROM:-0400
TZOFFSETTO:-0500
TZNAME:EST
DTSTART:20231105T060000
END:STANDARD
BEGIN:DAYLIGHT
TZOFFSETFROM:-0500
TZOFFSETTO:-0400
TZNAME:EDT
DTSTART:20240310T070000
END:DAYLIGHT
BEGIN:STANDARD
TZOFFSETFROM:-0400
TZOFFSETTO:-0500
TZNAME:EST
DTSTART:20241103T060000
END:STANDARD
END:VTIMEZONE
BEGIN:VTIMEZONE
TZID:America/Winnipeg
BEGIN:DAYLIGHT
TZOFFSETFROM:-0600
TZOFFSETTO:-0500
TZNAME:CDT
DTSTART:20220313T080000
END:DAYLIGHT
BEGIN:STANDARD
TZOFFSETFROM:-0500
TZOFFSETTO:-0600
TZNAME:CST
DTSTART:20221106T070000
END:STANDARD
BEGIN:DAYLIGHT
TZOFFSETFROM:-0600
TZOFFSETTO:-0500
TZNAME:CDT
DTSTART:20230312T080000
END:DAYLIGHT
BEGIN:STANDARD
TZOFFSETFROM:-0500
TZOFFSETTO:-0600
TZNAME:CST
DTSTART:20231105T070000
END:STANDARD
BEGIN:DAYLIGHT
TZOFFSETFROM:-0600
TZOFFSETTO:-0500
TZNAME:CDT
DTSTART:20240310T080000
END:DAYLIGHT
BEGIN:STANDARD
TZOFFSETFROM:-0500
TZOFFSETTO:-0600
TZNAME:CST
DTSTART:20241103T070000
END:STANDARD
END:VTIMEZONE
BEGIN:VEVENT
DTSTART;TZID=America/Thunder_Bay:20231027T190000
DTEND;TZID=America/Thunder_Bay:20231027T220000
DTSTAMP:20260423T032821
CREATED:20231020T202414Z
LAST-MODIFIED:20231020T202521Z
UID:1089523-1698433200-1698444000@chapple.on.ca
SUMMARY:Councilor Schram's Country Jam - Halloween Dance
DESCRIPTION:Come join us in Barwick for Councilor Schram’s Country Jam – Halloween Dance from 7pm to 10pm! The dance will be taking place in the old hall located upstairs at the Barwick Community Centre. \nFood and refreshments will be available. \nSee you there! \n\n 
URL:https://chapple.on.ca/event/councilor-schrams-country-jam-halloween-dance/
LOCATION:Private: Barwick Community Centre\, 140 Main St\, Barwick\, Ontario\, P0W 1A0\, Canada
ATTACH;FMTTYPE=image/jpeg:https://chapple.on.ca/wp-content/uploads/2023/10/halloween-party-dancing-skeleton-shirt-funny-happy-halloween-shirt-oversized-sweatshirt-halloween-mounir-khalfouf.jpg
END:VEVENT
BEGIN:VEVENT
DTSTART;TZID=America/Toronto:20231018T090000
DTEND;TZID=America/Toronto:20231018T110000
DTSTAMP:20260423T032821
CREATED:20231020T182253Z
LAST-MODIFIED:20231020T182253Z
UID:1089521-1697619600-1697626800@chapple.on.ca
SUMMARY:Special Meeting of Council
DESCRIPTION:
URL:https://chapple.on.ca/event/special-meeting-of-council-3/
END:VEVENT
BEGIN:VEVENT
DTSTART;TZID=America/Winnipeg:20231010T090000
DTEND;TZID=America/Winnipeg:20231010T150000
DTSTAMP:20260423T032821
CREATED:20230915T202425Z
LAST-MODIFIED:20230915T202425Z
UID:1089483-1696928400-1696950000@chapple.on.ca
SUMMARY:Regular Meeting of Council
DESCRIPTION:
URL:https://chapple.on.ca/event/regular-meeting-of-council-3/
END:VEVENT
BEGIN:VEVENT
DTSTART;TZID=America/Toronto:20231004T100000
DTEND;TZID=America/Toronto:20231004T113000
DTSTAMP:20260423T032821
CREATED:20230925T195217Z
LAST-MODIFIED:20230925T195217Z
UID:1089492-1696413600-1696419000@chapple.on.ca
SUMMARY:Special Meeting of Council
DESCRIPTION:Official Plan and Zoning Bylaw preliminary review – FOTENN Consultants
URL:https://chapple.on.ca/event/special-meeting-of-council-2/
END:VEVENT
BEGIN:VEVENT
DTSTART;TZID=America/Winnipeg:20230919T090000
DTEND;TZID=America/Winnipeg:20230919T120000
DTSTAMP:20260423T032821
CREATED:20230914T191130Z
LAST-MODIFIED:20230914T191130Z
UID:1089480-1695114000-1695124800@chapple.on.ca
SUMMARY:Special Meeting of Council
DESCRIPTION:
URL:https://chapple.on.ca/event/special-meeting-of-council/
END:VEVENT
BEGIN:VEVENT
DTSTART;TZID=America/Winnipeg:20230912T090000
DTEND;TZID=America/Winnipeg:20230912T130000
DTSTAMP:20260423T032821
CREATED:20230809T191018Z
LAST-MODIFIED:20230809T191018Z
UID:1089433-1694509200-1694523600@chapple.on.ca
SUMMARY:Regular Meeting of Council
DESCRIPTION:
URL:https://chapple.on.ca/event/regular-meeting-of-council-2/
END:VEVENT
BEGIN:VEVENT
DTSTART;TZID=America/Toronto:20230808T091000
DTEND;TZID=America/Toronto:20230808T091000
DTSTAMP:20260423T032821
CREATED:20230706T194734Z
LAST-MODIFIED:20230720T150043Z
UID:1088979-1691485800-1691485800@chapple.on.ca
SUMMARY:Regular Meeting of Council
DESCRIPTION:
URL:https://chapple.on.ca/event/regular-meeting-of-council/
LOCATION:Council Chambers\, 54 Barwick Road\, Barwick
END:VEVENT
BEGIN:VEVENT
DTSTART;TZID=America/Toronto:20230808T090000
DTEND;TZID=America/Toronto:20230808T091000
DTSTAMP:20260423T032821
CREATED:20230720T145948Z
LAST-MODIFIED:20230720T150115Z
UID:1089267-1691485200-1691485800@chapple.on.ca
SUMMARY:Planning Authority Meeting
DESCRIPTION:Notice of Application – 59C-2023-01 – Anderson
URL:https://chapple.on.ca/event/planning-authority-meeting/
END:VEVENT
BEGIN:VEVENT
DTSTART;TZID=America/Toronto:20230705T080000
DTEND;TZID=America/Toronto:20230705T170000
DTSTAMP:20260423T032821
CREATED:20230704T150346Z
LAST-MODIFIED:20230704T150346Z
UID:1088781-1688544000-1688576400@chapple.on.ca
SUMMARY:Example Event
DESCRIPTION:This is the description of the event
URL:https://chapple.on.ca/event/example-event/
END:VEVENT
END:VCALENDAR