BEGIN:VCALENDAR
VERSION:2.0
PRODID:-//Township of Chapple - ECPv6.15.20//NONSGML v1.0//EN
CALSCALE:GREGORIAN
METHOD:PUBLISH
X-WR-CALNAME:Township of Chapple
X-ORIGINAL-URL:https://chapple.on.ca
X-WR-CALDESC:Events for Township of Chapple
REFRESH-INTERVAL;VALUE=DURATION:PT1H
X-Robots-Tag:noindex
X-PUBLISHED-TTL:PT1H
BEGIN:VTIMEZONE
TZID:America/Toronto
BEGIN:DAYLIGHT
TZOFFSETFROM:-0500
TZOFFSETTO:-0400
TZNAME:EDT
DTSTART:20220313T070000
END:DAYLIGHT
BEGIN:STANDARD
TZOFFSETFROM:-0400
TZOFFSETTO:-0500
TZNAME:EST
DTSTART:20221106T060000
END:STANDARD
BEGIN:DAYLIGHT
TZOFFSETFROM:-0500
TZOFFSETTO:-0400
TZNAME:EDT
DTSTART:20230312T070000
END:DAYLIGHT
BEGIN:STANDARD
TZOFFSETFROM:-0400
TZOFFSETTO:-0500
TZNAME:EST
DTSTART:20231105T060000
END:STANDARD
BEGIN:DAYLIGHT
TZOFFSETFROM:-0500
TZOFFSETTO:-0400
TZNAME:EDT
DTSTART:20240310T070000
END:DAYLIGHT
BEGIN:STANDARD
TZOFFSETFROM:-0400
TZOFFSETTO:-0500
TZNAME:EST
DTSTART:20241103T060000
END:STANDARD
BEGIN:DAYLIGHT
TZOFFSETFROM:-0500
TZOFFSETTO:-0400
TZNAME:EDT
DTSTART:20250309T070000
END:DAYLIGHT
BEGIN:STANDARD
TZOFFSETFROM:-0400
TZOFFSETTO:-0500
TZNAME:EST
DTSTART:20251102T060000
END:STANDARD
END:VTIMEZONE
BEGIN:VTIMEZONE
TZID:America/Winnipeg
BEGIN:DAYLIGHT
TZOFFSETFROM:-0600
TZOFFSETTO:-0500
TZNAME:CDT
DTSTART:20220313T080000
END:DAYLIGHT
BEGIN:STANDARD
TZOFFSETFROM:-0500
TZOFFSETTO:-0600
TZNAME:CST
DTSTART:20221106T070000
END:STANDARD
BEGIN:DAYLIGHT
TZOFFSETFROM:-0600
TZOFFSETTO:-0500
TZNAME:CDT
DTSTART:20230312T080000
END:DAYLIGHT
BEGIN:STANDARD
TZOFFSETFROM:-0500
TZOFFSETTO:-0600
TZNAME:CST
DTSTART:20231105T070000
END:STANDARD
BEGIN:DAYLIGHT
TZOFFSETFROM:-0600
TZOFFSETTO:-0500
TZNAME:CDT
DTSTART:20240310T080000
END:DAYLIGHT
BEGIN:STANDARD
TZOFFSETFROM:-0500
TZOFFSETTO:-0600
TZNAME:CST
DTSTART:20241103T070000
END:STANDARD
BEGIN:DAYLIGHT
TZOFFSETFROM:-0600
TZOFFSETTO:-0500
TZNAME:CDT
DTSTART:20250309T080000
END:DAYLIGHT
BEGIN:STANDARD
TZOFFSETFROM:-0500
TZOFFSETTO:-0600
TZNAME:CST
DTSTART:20251102T070000
END:STANDARD
END:VTIMEZONE
BEGIN:VTIMEZONE
TZID:America/Chicago
BEGIN:DAYLIGHT
TZOFFSETFROM:-0600
TZOFFSETTO:-0500
TZNAME:CDT
DTSTART:20220313T080000
END:DAYLIGHT
BEGIN:STANDARD
TZOFFSETFROM:-0500
TZOFFSETTO:-0600
TZNAME:CST
DTSTART:20221106T070000
END:STANDARD
BEGIN:DAYLIGHT
TZOFFSETFROM:-0600
TZOFFSETTO:-0500
TZNAME:CDT
DTSTART:20230312T080000
END:DAYLIGHT
BEGIN:STANDARD
TZOFFSETFROM:-0500
TZOFFSETTO:-0600
TZNAME:CST
DTSTART:20231105T070000
END:STANDARD
BEGIN:DAYLIGHT
TZOFFSETFROM:-0600
TZOFFSETTO:-0500
TZNAME:CDT
DTSTART:20240310T080000
END:DAYLIGHT
BEGIN:STANDARD
TZOFFSETFROM:-0500
TZOFFSETTO:-0600
TZNAME:CST
DTSTART:20241103T070000
END:STANDARD
BEGIN:DAYLIGHT
TZOFFSETFROM:-0600
TZOFFSETTO:-0500
TZNAME:CDT
DTSTART:20250309T080000
END:DAYLIGHT
BEGIN:STANDARD
TZOFFSETFROM:-0500
TZOFFSETTO:-0600
TZNAME:CST
DTSTART:20251102T070000
END:STANDARD
END:VTIMEZONE
BEGIN:VTIMEZONE
TZID:America/Thunder_Bay
BEGIN:DAYLIGHT
TZOFFSETFROM:-0500
TZOFFSETTO:-0400
TZNAME:EDT
DTSTART:20220313T070000
END:DAYLIGHT
BEGIN:STANDARD
TZOFFSETFROM:-0400
TZOFFSETTO:-0500
TZNAME:EST
DTSTART:20221106T060000
END:STANDARD
BEGIN:DAYLIGHT
TZOFFSETFROM:-0500
TZOFFSETTO:-0400
TZNAME:EDT
DTSTART:20230312T070000
END:DAYLIGHT
BEGIN:STANDARD
TZOFFSETFROM:-0400
TZOFFSETTO:-0500
TZNAME:EST
DTSTART:20231105T060000
END:STANDARD
BEGIN:DAYLIGHT
TZOFFSETFROM:-0500
TZOFFSETTO:-0400
TZNAME:EDT
DTSTART:20240310T070000
END:DAYLIGHT
BEGIN:STANDARD
TZOFFSETFROM:-0400
TZOFFSETTO:-0500
TZNAME:EST
DTSTART:20241103T060000
END:STANDARD
END:VTIMEZONE
BEGIN:VEVENT
DTSTART;TZID=America/Toronto:20241217T130000
DTEND;TZID=America/Toronto:20241217T160000
DTSTAMP:20260422T184434
CREATED:20241216T181406Z
LAST-MODIFIED:20241216T214707Z
UID:1090236-1734440400-1734451200@chapple.on.ca
SUMMARY:Emergency Management Program Committee
DESCRIPTION:To view agenda\, click here
URL:https://chapple.on.ca/event/emergency-management-program-committee/
END:VEVENT
BEGIN:VEVENT
DTSTART;TZID=America/Winnipeg:20241112T090000
DTEND;TZID=America/Winnipeg:20241112T170000
DTSTAMP:20260422T184434
CREATED:20241021T152839Z
LAST-MODIFIED:20241021T152839Z
UID:1090173-1731402000-1731430800@chapple.on.ca
SUMMARY:Regular Council Meeting
DESCRIPTION:To view the agenda\, click here.
URL:https://chapple.on.ca/event/regular-council-meeting-9/
LOCATION:Council Chambers\, 54 Barwick Road\, Barwick
ATTACH;FMTTYPE=image/png:https://chapple.on.ca/wp-content/uploads/2023/07/Banner-Council.png
END:VEVENT
BEGIN:VEVENT
DTSTART;TZID=America/Winnipeg:20241008T090000
DTEND;TZID=America/Winnipeg:20241008T150000
DTSTAMP:20260422T184434
CREATED:20240925T165008Z
LAST-MODIFIED:20240925T165008Z
UID:1090141-1728378000-1728399600@chapple.on.ca
SUMMARY:Regular Council Meeting
DESCRIPTION:The agenda will be posted on by the Friday in advance of the council meeting. To view the agenda\, click here.
URL:https://chapple.on.ca/event/regular-council-meeting-8/
LOCATION:Council Chambers\, 54 Barwick Road\, Barwick
ATTACH;FMTTYPE=image/png:https://chapple.on.ca/wp-content/uploads/2023/07/Banner-Council.png
END:VEVENT
BEGIN:VEVENT
DTSTART;VALUE=DATE:20240930
DTEND;VALUE=DATE:20241001
DTSTAMP:20260422T184434
CREATED:20240925T164651Z
LAST-MODIFIED:20240925T164651Z
UID:1090139-1727654400-1727740799@chapple.on.ca
SUMMARY:Office\, Garage and Landfill Closure - National Day for Truth and Reconcilliation
DESCRIPTION:The Municipal Office\, Garage\, and Shenston Landfill will be closed on Monday\, September 30th for the National Day for Truth and Reconciliation. Regular operations will resume on Tuesday\, October 1st.
URL:https://chapple.on.ca/event/office-garage-and-landfill-closure-national-day-for-truth-and-reconcilliation/
ATTACH;FMTTYPE=image/jpeg:https://chapple.on.ca/wp-content/uploads/2023/11/gettyimages-1219081273-612x612-1.jpg
END:VEVENT
BEGIN:VEVENT
DTSTART;TZID=America/Winnipeg:20240923T090000
DTEND;TZID=America/Winnipeg:20240924T150000
DTSTAMP:20260422T184434
CREATED:20240918T151958Z
LAST-MODIFIED:20240918T152110Z
UID:1090102-1727082000-1727190000@chapple.on.ca
SUMMARY:Pipe Pick-Up Days @ Shenston Landfill
DESCRIPTION:
URL:https://chapple.on.ca/event/pipe-pick-up-days-shenston-landfill/
LOCATION:Shenston Landfill
ATTACH;FMTTYPE=image/jpeg:https://chapple.on.ca/wp-content/uploads/2024/09/metal-pipes-icon-cartoon-style-vector-30666908.jpg
END:VEVENT
BEGIN:VEVENT
DTSTART;TZID=America/Winnipeg:20240917T090000
DTEND;TZID=America/Winnipeg:20240917T170000
DTSTAMP:20260422T184434
CREATED:20240916T160124Z
LAST-MODIFIED:20240916T160124Z
UID:1090095-1726563600-1726592400@chapple.on.ca
SUMMARY:Special Council Meeting
DESCRIPTION:To view the agenda\, click here.
URL:https://chapple.on.ca/event/special-council-meeting-6/
LOCATION:Council Chambers\, 54 Barwick Road\, Barwick
ATTACH;FMTTYPE=image/png:https://chapple.on.ca/wp-content/uploads/2023/07/Banner-Council.png
END:VEVENT
BEGIN:VEVENT
DTSTART;TZID=America/Toronto:20240723T150000
DTEND;TZID=America/Toronto:20240723T160000
DTSTAMP:20260422T184434
CREATED:20240723T174903Z
LAST-MODIFIED:20240723T174903Z
UID:1090001-1721746800-1721750400@chapple.on.ca
SUMMARY:Special Council Meeting
DESCRIPTION:Please note that there will be a Special Council meeting July 23\, 2024 at 3pm in the Council Chambers\, located at 54 Barwick Road. For more information\, visit Chapple’s Civic Web Portal.
URL:https://chapple.on.ca/event/special-council-meeting-5/
LOCATION:Council Chambers\, 54 Barwick Road\, Barwick
ATTACH;FMTTYPE=image/png:https://chapple.on.ca/wp-content/uploads/2023/07/Banner-Council.png
END:VEVENT
BEGIN:VEVENT
DTSTART;VALUE=DATE:20240701
DTEND;VALUE=DATE:20240702
DTSTAMP:20260422T184434
CREATED:20240625T204203Z
LAST-MODIFIED:20240625T204203Z
UID:1089925-1719792000-1719878399@chapple.on.ca
SUMMARY:July 1st\, 2024 Closure
DESCRIPTION:Chapple Municipal Office/Garage & Shenston Landfill Site \nWill be closed Monday\, July 1st\, 2024
URL:https://chapple.on.ca/event/july-1st-2024-closure/
ATTACH;FMTTYPE=image/jpeg:https://chapple.on.ca/wp-content/uploads/2023/11/gettyimages-1219081273-612x612-1.jpg
END:VEVENT
BEGIN:VEVENT
DTSTART;VALUE=DATE:20240629
DTEND;VALUE=DATE:20240701
DTSTAMP:20260422T184434
CREATED:20240625T204532Z
LAST-MODIFIED:20240625T204738Z
UID:1089927-1719619200-1719791999@chapple.on.ca
SUMMARY:Canada Day Activities
DESCRIPTION:Canada Day Activities \nParade 12:00PM \nChildren’s Activities to follow at the Ball Park \nMuseum- Scavenger Hunt & Treats \nMen’s Fastball Tournament- (Saturday June 29th and Sunday 30th\, 2024) Food Truck & Gardens Available \n  \n 
URL:https://chapple.on.ca/event/canada-day-activities/
END:VEVENT
BEGIN:VEVENT
DTSTART;TZID=America/Toronto:20240612T080000
DTEND;TZID=America/Toronto:20240612T170000
DTSTAMP:20260422T184434
CREATED:20240527T144321Z
LAST-MODIFIED:20240527T153544Z
UID:1089755-1718179200-1718211600@chapple.on.ca
SUMMARY:Regular Council Meeting
DESCRIPTION:Click here to view the council meeting agenda. \nPlease note\, June’s regular council meeting has been moved from Tuesday\, June 11th to Wednesday\, June 12th.
URL:https://chapple.on.ca/event/regular-council-meeting-7/
LOCATION:Council Chambers\, 54 Barwick Road\, Barwick
ATTACH;FMTTYPE=image/png:https://chapple.on.ca/wp-content/uploads/2023/07/Banner-Council.png
END:VEVENT
BEGIN:VEVENT
DTSTART;TZID=America/Toronto:20240611T084000
DTEND;TZID=America/Toronto:20240611T090000
DTSTAMP:20260422T184434
CREATED:20240527T145114Z
LAST-MODIFIED:20240527T145114Z
UID:1089758-1718095200-1718096400@chapple.on.ca
SUMMARY:Roadside Grass Cutting Tender - OPENING
DESCRIPTION:Bids received for the Roadside Grass Cutting Tender will be opened publicly at 8:40am at the Municipal Office.
URL:https://chapple.on.ca/event/roadside-grass-cutting-tender-opening/
LOCATION:Chapple Municipal Office\, 54 Barwick Rd\, Barwick\, Ontario\, P0W 1A0\, Canada
ATTACH;FMTTYPE=image/png:https://chapple.on.ca/wp-content/uploads/2024/05/tender-openign-image.png
END:VEVENT
BEGIN:VEVENT
DTSTART;TZID=America/Toronto:20240530T193000
DTEND;TZID=America/Toronto:20240530T210000
DTSTAMP:20260422T184434
CREATED:20240528T181929Z
LAST-MODIFIED:20240528T182000Z
UID:1089786-1717097400-1717102800@chapple.on.ca
SUMMARY:Special Council Meeting
DESCRIPTION:To see the meeting Agenda\, click here. \nThis meeting will be taking place in the evening\, at 7:30pm in the Upstairs Hall of the Barwick Community Centre (located at 104 Main St\, Barwick).
URL:https://chapple.on.ca/event/special-council-meeting-4/
LOCATION:Private: Barwick Community Centre\, 140 Main St\, Barwick\, Ontario\, P0W 1A0\, Canada
ATTACH;FMTTYPE=image/png:https://chapple.on.ca/wp-content/uploads/2023/07/Banner-Council.png
END:VEVENT
BEGIN:VEVENT
DTSTART;VALUE=DATE:20240520
DTEND;VALUE=DATE:20240521
DTSTAMP:20260422T184434
CREATED:20240513T211208Z
LAST-MODIFIED:20240513T211208Z
UID:1089739-1716163200-1716249599@chapple.on.ca
SUMMARY:Municipal Office/Garage and Shenston Landfill Closure
DESCRIPTION:The Municipal Office/Garage and Shenston Landfill site will be closed Monday\, May 20\, 2024 for the Victoria Day holiday.
URL:https://chapple.on.ca/event/municipal-office-garage-and-shenston-landfill-closure/
ATTACH;FMTTYPE=image/jpeg:https://chapple.on.ca/wp-content/uploads/2023/11/gettyimages-1219081273-612x612-1.jpg
END:VEVENT
BEGIN:VEVENT
DTSTART;TZID=America/Chicago:20240514T090000
DTEND;TZID=America/Chicago:20240514T170000
DTSTAMP:20260422T184434
CREATED:20240424T154315Z
LAST-MODIFIED:20240424T154315Z
UID:1089724-1715677200-1715706000@chapple.on.ca
SUMMARY:Regular Council Meeting
DESCRIPTION:
URL:https://chapple.on.ca/event/regular-council-meeting-6/
LOCATION:Council Chambers\, 54 Barwick Road\, Barwick
ATTACH;FMTTYPE=image/png:https://chapple.on.ca/wp-content/uploads/2023/07/Banner-Council.png
END:VEVENT
BEGIN:VEVENT
DTSTART;VALUE=DATE:20240507
DTEND;VALUE=DATE:20240508
DTSTAMP:20260422T184434
CREATED:20240426T164355Z
LAST-MODIFIED:20240426T164355Z
UID:1089726-1715040000-1715126399@chapple.on.ca
SUMMARY:Spring Clean-Up
DESCRIPTION:
URL:https://chapple.on.ca/event/spring-clean-up/
LOCATION:Village of Barwick\, Barwick\, Ontario\, P0W 1A0\, Canada
ATTACH;FMTTYPE=image/jpeg:https://chapple.on.ca/wp-content/uploads/2024/04/Garbage.jpg
END:VEVENT
BEGIN:VEVENT
DTSTART;TZID=America/Chicago:20240430T090000
DTEND;TZID=America/Chicago:20240430T170000
DTSTAMP:20260422T184434
CREATED:20240424T153942Z
LAST-MODIFIED:20240424T154047Z
UID:1089721-1714467600-1714496400@chapple.on.ca
SUMMARY:Special Council Meeting
DESCRIPTION:Click here to view the Agenda Package. \n 
URL:https://chapple.on.ca/event/special-council-meeting-3/
LOCATION:Council Chambers\, 54 Barwick Road\, Barwick
ATTACH;FMTTYPE=image/png:https://chapple.on.ca/wp-content/uploads/2023/07/Banner-Council.png
END:VEVENT
BEGIN:VEVENT
DTSTART;TZID=America/Toronto:20240409T090000
DTEND;TZID=America/Toronto:20240409T160000
DTSTAMP:20260422T184434
CREATED:20240408T164047Z
LAST-MODIFIED:20240408T164047Z
UID:1089702-1712653200-1712678400@chapple.on.ca
SUMMARY:Regular Council Meeting
DESCRIPTION:
URL:https://chapple.on.ca/event/regular-council-meeting-5/
LOCATION:Council Chambers\, 54 Barwick Road\, Barwick
ATTACH;FMTTYPE=image/png:https://chapple.on.ca/wp-content/uploads/2023/07/Banner-Council.png
END:VEVENT
BEGIN:VEVENT
DTSTART;TZID=America/Toronto:20240323T100000
DTEND;TZID=America/Toronto:20240323T150000
DTSTAMP:20260422T184434
CREATED:20240307T185659Z
LAST-MODIFIED:20240307T185659Z
UID:1089686-1711188000-1711206000@chapple.on.ca
SUMMARY:Barwick Easter Vendor Event
DESCRIPTION:
URL:https://chapple.on.ca/event/barwick-easter-vendor-event/
LOCATION:Private: Barwick Community Centre\, 140 Main St\, Barwick\, Ontario\, P0W 1A0\, Canada
ATTACH;FMTTYPE=image/png:https://chapple.on.ca/wp-content/uploads/2024/03/original-7E9128F7-CE5F-4DDC-9176-E14FB87F3B27.png
END:VEVENT
BEGIN:VEVENT
DTSTART;TZID=America/Toronto:20240312T090000
DTEND;TZID=America/Toronto:20240312T160000
DTSTAMP:20260422T184434
CREATED:20240311T134906Z
LAST-MODIFIED:20240311T134906Z
UID:1089689-1710234000-1710259200@chapple.on.ca
SUMMARY:Regular Council Meeting
DESCRIPTION:
URL:https://chapple.on.ca/event/regular-council-meeting-4/
LOCATION:Council Chambers\, 54 Barwick Road\, Barwick
ATTACH;FMTTYPE=image/png:https://chapple.on.ca/wp-content/uploads/2023/07/Banner-Council.png
END:VEVENT
BEGIN:VEVENT
DTSTART;TZID=America/Toronto:20240220T090000
DTEND;TZID=America/Toronto:20240220T160000
DTSTAMP:20260422T184434
CREATED:20240213T150538Z
LAST-MODIFIED:20240213T150631Z
UID:1089644-1708419600-1708444800@chapple.on.ca
SUMMARY:Regular Meeting of Council
DESCRIPTION:
URL:https://chapple.on.ca/event/regular-council-meeting-3/
LOCATION:Council Chambers\, 54 Barwick Road\, Barwick
ATTACH;FMTTYPE=image/png:https://chapple.on.ca/wp-content/uploads/2023/07/Banner-Council.png
END:VEVENT
BEGIN:VEVENT
DTSTART;VALUE=DATE:20240219
DTEND;VALUE=DATE:20240220
DTSTAMP:20260422T184434
CREATED:20240206T165628Z
LAST-MODIFIED:20240206T165628Z
UID:1089639-1708300800-1708387199@chapple.on.ca
SUMMARY:Family Fun Day
DESCRIPTION:
URL:https://chapple.on.ca/event/family-fun-day/
LOCATION:Private: Barwick Community Centre\, 140 Main St\, Barwick\, Ontario\, P0W 1A0\, Canada
ATTACH;FMTTYPE=image/jpeg:https://chapple.on.ca/wp-content/uploads/2024/02/Family-Day-Poster.jpg
END:VEVENT
BEGIN:VEVENT
DTSTART;TZID=America/Toronto:20231219T090000
DTEND;TZID=America/Toronto:20231219T120000
DTSTAMP:20260422T184434
CREATED:20231213T205709Z
LAST-MODIFIED:20231213T205734Z
UID:1089598-1702976400-1702987200@chapple.on.ca
SUMMARY:Special Council Meeting
DESCRIPTION:Please note that there will be a special meeting on December 19th\, 2023 in the Council Chambers located at 54 Barwick Road. An agenda for the meeting can be accessed on the CivicWeb Portal. \n 
URL:https://chapple.on.ca/event/special-council-meeting-2/
LOCATION:Council Chambers\, 54 Barwick Road\, Barwick
ATTACH;FMTTYPE=image/png:https://chapple.on.ca/wp-content/uploads/2023/01/cropped-chapple-logo.png
END:VEVENT
BEGIN:VEVENT
DTSTART;TZID=America/Chicago:20231205T100000
DTEND;TZID=America/Chicago:20231205T110000
DTSTAMP:20260422T184434
CREATED:20231116T194909Z
LAST-MODIFIED:20231116T194909Z
UID:1089574-1701770400-1701774000@chapple.on.ca
SUMMARY:User Fee Bylaw Review
DESCRIPTION:A review of the User Fee Bylaw will take place at 10:00am on Tuesday December 5th\, 2023 in the Municipal Council Chambers located at 54 Barwick Road. This meeting is open to the public. \nTo see a draft of the proposed changes to the User Fees for 2024 please click here.
URL:https://chapple.on.ca/event/user-fee-bylaw-review/
LOCATION:Council Chambers\, 54 Barwick Road\, Barwick
ATTACH;FMTTYPE=image/png:https://chapple.on.ca/wp-content/uploads/2023/01/cropped-chapple-logo.png
END:VEVENT
BEGIN:VEVENT
DTSTART;TZID=America/Chicago:20231205T090000
DTEND;TZID=America/Chicago:20231205T130000
DTSTAMP:20260422T184434
CREATED:20231116T192658Z
LAST-MODIFIED:20231116T192658Z
UID:1089569-1701766800-1701781200@chapple.on.ca
SUMMARY:Regular Council Meeting
DESCRIPTION:
URL:https://chapple.on.ca/event/regular-council-meeting-2/
LOCATION:Council Chambers\, 54 Barwick Road\, Barwick
ATTACH;FMTTYPE=image/png:https://chapple.on.ca/wp-content/uploads/2023/07/Banner-Council.png
END:VEVENT
BEGIN:VEVENT
DTSTART;TZID=America/Winnipeg:20231114T090000
DTEND;TZID=America/Winnipeg:20231114T140000
DTSTAMP:20260422T184434
CREATED:20231011T134602Z
LAST-MODIFIED:20231101T194456Z
UID:1089511-1699952400-1699970400@chapple.on.ca
SUMMARY:Regular Council Meeting
DESCRIPTION:
URL:https://chapple.on.ca/event/regular-council-meeting/
LOCATION:Council Chambers\, 54 Barwick Road\, Barwick
ATTACH;FMTTYPE=image/png:https://chapple.on.ca/wp-content/uploads/2023/07/Banner-Council.png
END:VEVENT
BEGIN:VEVENT
DTSTART;TZID=America/Thunder_Bay:20231113T083000
DTEND;TZID=America/Thunder_Bay:20231113T160000
DTSTAMP:20260422T184434
CREATED:20231102T135653Z
LAST-MODIFIED:20231102T135913Z
UID:1089550-1699864200-1699891200@chapple.on.ca
SUMMARY:Office Closure
DESCRIPTION:Please note the Chapple Municipal Office and Garage\, located at 54 Barwick Road\, will be closed on Monday November 13th\, 2023 for Remembrance Day. Regular working hours will resume on November 14th\, 2023.
URL:https://chapple.on.ca/event/office-closure/
LOCATION:Chapple Municipal Office\, 54 Barwick Rd\, Barwick\, Ontario\, P0W 1A0\, Canada
ATTACH;FMTTYPE=image/jpeg:https://chapple.on.ca/wp-content/uploads/2023/11/gettyimages-1219081273-612x612-1.jpg
END:VEVENT
BEGIN:VEVENT
DTSTART;VALUE=DATE:20231111
DTEND;VALUE=DATE:20231112
DTSTAMP:20260422T184434
CREATED:20231031T160052Z
LAST-MODIFIED:20231031T160516Z
UID:1089537-1699660800-1699747199@chapple.on.ca
SUMMARY:Remembrance Day
DESCRIPTION:Remembrance Day Services\nChurch Service Devlin Hall – 10:15am \nDevlin Cenotaph – 11:00am \nEmo Cenotaph – 11:45am \nBarwick Cenotaph – 1:30pm \nStratton Cenotaph – 2:00pm \nRainy River First Nations\, Manitou Cenotaph – 2:45pm \nEmo Legion\nEmo Legion Freewill lunch – 12:30pm \nEmo Legion Remembrance Day Dinner – 5:00pm \nTickets $20.00 each / 12 and under $10.00 \nTickets available at the Emo Legion Wednesday-Saturday 4-6pm
URL:https://chapple.on.ca/event/remembrance-day/
LOCATION:Barwick Cenotaph\, Barwick\, Ontario\, P0W 1A0\, Canada
ATTACH;FMTTYPE=image/jpeg:https://chapple.on.ca/wp-content/uploads/2023/10/Rememberance-Day.jpg
END:VEVENT
BEGIN:VEVENT
DTSTART;TZID=America/Thunder_Bay:20231027T190000
DTEND;TZID=America/Thunder_Bay:20231027T220000
DTSTAMP:20260422T184434
CREATED:20231020T202414Z
LAST-MODIFIED:20231020T202521Z
UID:1089523-1698433200-1698444000@chapple.on.ca
SUMMARY:Councilor Schram's Country Jam - Halloween Dance
DESCRIPTION:Come join us in Barwick for Councilor Schram’s Country Jam – Halloween Dance from 7pm to 10pm! The dance will be taking place in the old hall located upstairs at the Barwick Community Centre. \nFood and refreshments will be available. \nSee you there! \n\n 
URL:https://chapple.on.ca/event/councilor-schrams-country-jam-halloween-dance/
LOCATION:Private: Barwick Community Centre\, 140 Main St\, Barwick\, Ontario\, P0W 1A0\, Canada
ATTACH;FMTTYPE=image/jpeg:https://chapple.on.ca/wp-content/uploads/2023/10/halloween-party-dancing-skeleton-shirt-funny-happy-halloween-shirt-oversized-sweatshirt-halloween-mounir-khalfouf.jpg
END:VEVENT
BEGIN:VEVENT
DTSTART;TZID=America/Toronto:20231018T090000
DTEND;TZID=America/Toronto:20231018T110000
DTSTAMP:20260422T184434
CREATED:20231020T182253Z
LAST-MODIFIED:20231020T182253Z
UID:1089521-1697619600-1697626800@chapple.on.ca
SUMMARY:Special Meeting of Council
DESCRIPTION:
URL:https://chapple.on.ca/event/special-meeting-of-council-3/
END:VEVENT
BEGIN:VEVENT
DTSTART;TZID=America/Winnipeg:20231010T090000
DTEND;TZID=America/Winnipeg:20231010T150000
DTSTAMP:20260422T184434
CREATED:20230915T202425Z
LAST-MODIFIED:20230915T202425Z
UID:1089483-1696928400-1696950000@chapple.on.ca
SUMMARY:Regular Meeting of Council
DESCRIPTION:
URL:https://chapple.on.ca/event/regular-meeting-of-council-3/
END:VEVENT
END:VCALENDAR