BEGIN:VCALENDAR
VERSION:2.0
PRODID:-//Township of Chapple - ECPv6.15.20//NONSGML v1.0//EN
CALSCALE:GREGORIAN
METHOD:PUBLISH
X-WR-CALNAME:Township of Chapple
X-ORIGINAL-URL:https://chapple.on.ca
X-WR-CALDESC:Events for Township of Chapple
REFRESH-INTERVAL;VALUE=DURATION:PT1H
X-Robots-Tag:noindex
X-PUBLISHED-TTL:PT1H
BEGIN:VTIMEZONE
TZID:America/Toronto
BEGIN:DAYLIGHT
TZOFFSETFROM:-0500
TZOFFSETTO:-0400
TZNAME:EDT
DTSTART:20230312T070000
END:DAYLIGHT
BEGIN:STANDARD
TZOFFSETFROM:-0400
TZOFFSETTO:-0500
TZNAME:EST
DTSTART:20231105T060000
END:STANDARD
BEGIN:DAYLIGHT
TZOFFSETFROM:-0500
TZOFFSETTO:-0400
TZNAME:EDT
DTSTART:20240310T070000
END:DAYLIGHT
BEGIN:STANDARD
TZOFFSETFROM:-0400
TZOFFSETTO:-0500
TZNAME:EST
DTSTART:20241103T060000
END:STANDARD
BEGIN:DAYLIGHT
TZOFFSETFROM:-0500
TZOFFSETTO:-0400
TZNAME:EDT
DTSTART:20250309T070000
END:DAYLIGHT
BEGIN:STANDARD
TZOFFSETFROM:-0400
TZOFFSETTO:-0500
TZNAME:EST
DTSTART:20251102T060000
END:STANDARD
BEGIN:DAYLIGHT
TZOFFSETFROM:-0500
TZOFFSETTO:-0400
TZNAME:EDT
DTSTART:20260308T070000
END:DAYLIGHT
BEGIN:STANDARD
TZOFFSETFROM:-0400
TZOFFSETTO:-0500
TZNAME:EST
DTSTART:20261101T060000
END:STANDARD
END:VTIMEZONE
BEGIN:VTIMEZONE
TZID:America/Winnipeg
BEGIN:DAYLIGHT
TZOFFSETFROM:-0600
TZOFFSETTO:-0500
TZNAME:CDT
DTSTART:20230312T080000
END:DAYLIGHT
BEGIN:STANDARD
TZOFFSETFROM:-0500
TZOFFSETTO:-0600
TZNAME:CST
DTSTART:20231105T070000
END:STANDARD
BEGIN:DAYLIGHT
TZOFFSETFROM:-0600
TZOFFSETTO:-0500
TZNAME:CDT
DTSTART:20240310T080000
END:DAYLIGHT
BEGIN:STANDARD
TZOFFSETFROM:-0500
TZOFFSETTO:-0600
TZNAME:CST
DTSTART:20241103T070000
END:STANDARD
BEGIN:DAYLIGHT
TZOFFSETFROM:-0600
TZOFFSETTO:-0500
TZNAME:CDT
DTSTART:20250309T080000
END:DAYLIGHT
BEGIN:STANDARD
TZOFFSETFROM:-0500
TZOFFSETTO:-0600
TZNAME:CST
DTSTART:20251102T070000
END:STANDARD
BEGIN:DAYLIGHT
TZOFFSETFROM:-0600
TZOFFSETTO:-0500
TZNAME:CDT
DTSTART:20260308T080000
END:DAYLIGHT
BEGIN:STANDARD
TZOFFSETFROM:-0500
TZOFFSETTO:-0600
TZNAME:CST
DTSTART:20261101T070000
END:STANDARD
END:VTIMEZONE
BEGIN:VEVENT
DTSTART;TZID=America/Toronto:20250930T080000
DTEND;TZID=America/Toronto:20250930T170000
DTSTAMP:20260422T184311
CREATED:20250825T175221Z
LAST-MODIFIED:20250825T175221Z
UID:1090655-1759219200-1759251600@chapple.on.ca
SUMMARY:🧡 Closure Notice – National Day for Truth and Reconciliation
DESCRIPTION:In recognition of the National Day for Truth and Reconciliation\, the Township of Chapple Municipal Office\, Garage\, and Shenston Landfill will be closed on Tuesday September 30\, 2025. \nRegular operations will resume on Wednesday\, October 1\, 2025.
URL:https://chapple.on.ca/event/%f0%9f%a7%a1-closure-notice-national-day-for-truth-and-reconciliation/
END:VEVENT
BEGIN:VEVENT
DTSTART;TZID=America/Toronto:20250927T110000
DTEND;TZID=America/Toronto:20250927T120000
DTSTAMP:20260422T184311
CREATED:20250917T170540Z
LAST-MODIFIED:20250927T162425Z
UID:1090691-1758970800-1758974400@chapple.on.ca
SUMMARY:Special  Council Meeting
DESCRIPTION:🗓️ Meeting Date: Saturday September 27th\, 2025 \n🕕 Time: 11:00 AM \n📍 Location: 54 Barwick Rd \nMicrosoft Teams Meeting:\nMeeting ID: 259 334 173 962 3\nPasscode: fL2w7mc6 \nCall-In Option:\n+1 807-487-1496\nPhone conference ID: 942 008 199# *UPDATED*\n\n📄Council Meeting Agenda 
URL:https://chapple.on.ca/event/special-council-meeting-10/
LOCATION:Council Chambers\, 54 Barwick Road\, Barwick
END:VEVENT
BEGIN:VEVENT
DTSTART;TZID=America/Toronto:20250910T180000
DTEND;TZID=America/Toronto:20250910T210000
DTSTAMP:20260422T184311
CREATED:20250819T144922Z
LAST-MODIFIED:20250910T204959Z
UID:1090313-1757527200-1757538000@chapple.on.ca
SUMMARY:Regular Council Meeting
DESCRIPTION:🗓️ Meeting Date: September 10th\, 2025 \n🕕 Time: 6:00 PM \n \n📍 Location: 54 Barwick Rd \n📄 Agenda Available: Friday before the meeting \nMicrosoft Teams Meeting:\nMeeting ID: 290 882 667 675 1\nPasscode: Q69bF6JU \n📞 Call-In Option: To join remotely:\n+1 807-487-1496\nPhone conference ID: 503 270 686# \n📣 Council Meeting Agenda \nThe agenda for the upcoming council meeting will be posted Friday\, September 5\, 2025. Be sure to check back then so you can stay informed and prepared. Click here to view the Agenda. \n 
URL:https://chapple.on.ca/event/regular-council-meeting-14/
END:VEVENT
BEGIN:VEVENT
DTSTART;TZID=America/Toronto:20250901T080000
DTEND;TZID=America/Toronto:20250901T170000
DTSTAMP:20260422T184311
CREATED:20250825T174248Z
LAST-MODIFIED:20250825T174433Z
UID:1090650-1756713600-1756746000@chapple.on.ca
SUMMARY:📢 Holiday Closure Notice – Labour Day
DESCRIPTION:Please be advised that the Township of Chapple Municipal Office\, Garage and Landfill will be closed on Monday\, September 1\, 2025\, in observance of Labour Day. \nRegular office hours will resume on Tuesday\, September 2\, 2025\, at 8:30 AM. \nWe wish all residents a safe and enjoyable holiday weekend!
URL:https://chapple.on.ca/event/%f0%9f%93%a2-holiday-closure-notice-labour-da/
END:VEVENT
BEGIN:VEVENT
DTSTART;TZID=America/Toronto:20250821T090000
DTEND;TZID=America/Toronto:20250821T160000
DTSTAMP:20260422T184311
CREATED:20250821T134847Z
LAST-MODIFIED:20250821T134847Z
UID:1090639-1755766800-1755792000@chapple.on.ca
SUMMARY:Final Day of Summer for the Chapple Museum
DESCRIPTION:Chapple Museum: \n🌞 Farewell to Summer at the Chapple Museum! 🏛️ \nAs the golden days of summer wind down\, we’re celebrating the final day of the season at the Chapple Museum! It’s been a wonderful few months of stories\, artifacts\, and community connections. If you haven’t stopped by yet\, today’s your last chance to explore the rich history of Chapple before we close for the season. \n📅 Last Day: August 21\, 2025\n🕘 Hours: 9:00 AM – 4:00 PM (Closed for lunch 12:30–1:00 PM)\n📍 Chapple Museum \nCome soak up the nostalgia\, share your favorite memories\, and help us wrap up the summer with a smile. We’ll see you again next season!
URL:https://chapple.on.ca/event/final-day-of-summer-for-the-chapple-museum/
END:VEVENT
BEGIN:VEVENT
DTSTART;TZID=America/Toronto:20250815T080000
DTEND;TZID=America/Toronto:20250815T120000
DTSTAMP:20260422T184311
CREATED:20250814T191501Z
LAST-MODIFIED:20250814T191501Z
UID:1090616-1755244800-1755259200@chapple.on.ca
SUMMARY:📢 Notice of Early Closure – Emo Fair Weekend
DESCRIPTION:📢 Notice of Early Closure – Emo Fair Weekend \nPlease note the following changes to operating hours: \n🏢 Township of Chapple Office & Garage\nWill be CLOSED at 12:00 PM on Friday\, August 15\, 2025 \n🏛️ Chapple Museum\nWill be CLOSED at 12:00 PM on Friday\, August 15\, 2025\nand remain CLOSED on Saturday\, August 16\, 2025 \n🎡 Happy Emo Fair Weekend!\nEnjoy the festivities\, stay safe\, and have fun!
URL:https://chapple.on.ca/event/%f0%9f%93%a2-notice-of-early-closure-emo-fair-weekend/
END:VEVENT
BEGIN:VEVENT
DTSTART;TZID=America/Toronto:20250806T123000
DTEND;TZID=America/Toronto:20250806T160000
DTSTAMP:20260422T184311
CREATED:20250805T184129Z
LAST-MODIFIED:20250805T184129Z
UID:1090591-1754483400-1754496000@chapple.on.ca
SUMMARY:Special Council Meeting
DESCRIPTION:Special Council Meeting  \nWednesday August 6th\, 2025 \nStarting @ 12 :30 PM \nCouncil Candidate Interviews \nClick here to view the Agenda.
URL:https://chapple.on.ca/event/special-council-meeting-9/
END:VEVENT
BEGIN:VEVENT
DTSTART;TZID=America/Toronto:20250804T080000
DTEND;TZID=America/Toronto:20250804T170000
DTSTAMP:20260422T184311
CREATED:20250731T190126Z
LAST-MODIFIED:20250731T190126Z
UID:1090579-1754294400-1754326800@chapple.on.ca
SUMMARY:The Municipal Office\,  Garage and Landfill  will be CLOSED
DESCRIPTION:The Municipal Office\, Garage and Landfill will be CLOSED Monday August 4\, 2025 for the                  Civic Holiday
URL:https://chapple.on.ca/event/the-municipal-office-garage-and-landfill-will-be-closed/
END:VEVENT
BEGIN:VEVENT
DTSTART;TZID=America/Toronto:20250801T090000
DTEND;TZID=America/Toronto:20250801T160000
DTSTAMP:20260422T184311
CREATED:20250731T190403Z
LAST-MODIFIED:20250731T190447Z
UID:1090581-1754038800-1754064000@chapple.on.ca
SUMMARY:Special Council Meeting
DESCRIPTION:Special Council Meeting  \nFriday August 1st\, 2025 \nStarting @ 9:00 AM \nCouncil Candidate Interviews \nClick here to view the Agenda.
URL:https://chapple.on.ca/event/special-council-meeting-8/
END:VEVENT
BEGIN:VEVENT
DTSTART;TZID=America/Toronto:20250701T080000
DTEND;TZID=America/Toronto:20250701T170000
DTSTAMP:20260422T184311
CREATED:20250529T160957Z
LAST-MODIFIED:20250529T160957Z
UID:1090479-1751356800-1751389200@chapple.on.ca
SUMMARY:The Municipal Office\, Garage\, and Shenston Landfill will be Closed
DESCRIPTION:The Municipal Office\, Garage\, and Shenston Landfill will be closed on Tuesday\, July 1st\, 2025 for the Canada Day. Regular operations will resume on Wednesday\, July 2nd\, 2025.
URL:https://chapple.on.ca/event/the-municipal-office-garage-and-shenston-landfill-will-be-closed/
END:VEVENT
BEGIN:VEVENT
DTSTART;TZID=America/Toronto:20250617T080000
DTEND;TZID=America/Toronto:20250617T170000
DTSTAMP:20260422T184311
CREATED:20250530T161950Z
LAST-MODIFIED:20250530T161950Z
UID:1090485-1750147200-1750179600@chapple.on.ca
SUMMARY:Regular Council Meeting and Final Budget Review
DESCRIPTION:Click here to view the Agenda. \nFinal Budget Review starting at 12:00 p.m.
URL:https://chapple.on.ca/event/regular-council-meeting-and-final-budget-review/
END:VEVENT
BEGIN:VEVENT
DTSTART;TZID=America/Toronto:20250513T080000
DTEND;TZID=America/Toronto:20250513T153000
DTSTAMP:20260422T184311
CREATED:20250404T175816Z
LAST-MODIFIED:20250404T175816Z
UID:1090417-1747123200-1747150200@chapple.on.ca
SUMMARY:SPRING VILLAGE CLEAN UP
DESCRIPTION:
URL:https://chapple.on.ca/event/spring-village-clean-up/
END:VEVENT
BEGIN:VEVENT
DTSTART;TZID=America/Toronto:20250421T080000
DTEND;TZID=America/Toronto:20250421T170000
DTSTAMP:20260422T184311
CREATED:20250404T175707Z
LAST-MODIFIED:20250404T175849Z
UID:1090414-1745222400-1745254800@chapple.on.ca
SUMMARY:Easter Monday-Closure
DESCRIPTION:Municipal Office\, Garage and Landfill CLOSURE
URL:https://chapple.on.ca/event/closure-easter-monday/
END:VEVENT
BEGIN:VEVENT
DTSTART;TZID=America/Toronto:20250418T080000
DTEND;TZID=America/Toronto:20250418T170000
DTSTAMP:20260422T184311
CREATED:20250404T175529Z
LAST-MODIFIED:20250404T175733Z
UID:1090412-1744963200-1744995600@chapple.on.ca
SUMMARY:Good Friday -Closure
DESCRIPTION:Municipal Office\, Garage and Landfill CLOSURE
URL:https://chapple.on.ca/event/good-friday-closure/
END:VEVENT
BEGIN:VEVENT
DTSTART;TZID=America/Toronto:20250408T090000
DTEND;TZID=America/Toronto:20250408T170000
DTSTAMP:20260422T184311
CREATED:20250402T194121Z
LAST-MODIFIED:20250402T194311Z
UID:1090402-1744102800-1744131600@chapple.on.ca
SUMMARY:Regular Council Meeting
DESCRIPTION:To view the meeting agenda\, click here.
URL:https://chapple.on.ca/event/regular-council-meeting-13/
LOCATION:Council Chambers\, 54 Barwick Road\, Barwick
ATTACH;FMTTYPE=image/png:https://chapple.on.ca/wp-content/uploads/2023/07/Banner-Council.png
END:VEVENT
BEGIN:VEVENT
DTSTART;TZID=America/Toronto:20250328T083000
DTEND;TZID=America/Toronto:20250328T160000
DTSTAMP:20260422T184311
CREATED:20250321T161132Z
LAST-MODIFIED:20250321T161132Z
UID:1090299-1743150600-1743177600@chapple.on.ca
SUMMARY:Special Council Meeting
DESCRIPTION:Click here to view the Agenda.
URL:https://chapple.on.ca/event/special-council-meeting-7/
END:VEVENT
BEGIN:VEVENT
DTSTART;TZID=America/Toronto:20250217T080000
DTEND;TZID=America/Toronto:20250217T170000
DTSTAMP:20260422T184311
CREATED:20250212T164749Z
LAST-MODIFIED:20250212T164749Z
UID:1090359-1739779200-1739811600@chapple.on.ca
SUMMARY:Family Day Closure
DESCRIPTION:The Municipal Office\, Garage and Landfill \nWill be CLOSED Monday February 17\, 2025 for Family Day.
URL:https://chapple.on.ca/event/family-day-closure/
END:VEVENT
BEGIN:VEVENT
DTSTART;TZID=America/Winnipeg:20250211T090000
DTEND;TZID=America/Winnipeg:20250211T170000
DTSTAMP:20260422T184311
CREATED:20250206T213745Z
LAST-MODIFIED:20250206T213745Z
UID:1090352-1739264400-1739293200@chapple.on.ca
SUMMARY:Regular Council Meeting
DESCRIPTION:Click here to view the agenda.
URL:https://chapple.on.ca/event/regular-council-meeting-12/
LOCATION:Council Chambers\, 54 Barwick Road\, Barwick
ATTACH;FMTTYPE=image/png:https://chapple.on.ca/wp-content/uploads/2023/07/Banner-Council.png
END:VEVENT
BEGIN:VEVENT
DTSTART;TZID=America/Toronto:20250121T090000
DTEND;TZID=America/Toronto:20250121T170000
DTSTAMP:20260422T184311
CREATED:20250116T192321Z
LAST-MODIFIED:20250116T192339Z
UID:1090271-1737450000-1737478800@chapple.on.ca
SUMMARY:Regular Council Meeting
DESCRIPTION:Click here to view the Agenda.
URL:https://chapple.on.ca/event/regular-council-meeting-11/
LOCATION:Council Chambers\, 54 Barwick Road\, Barwick
ATTACH;FMTTYPE=image/png:https://chapple.on.ca/wp-content/uploads/2023/07/Banner-Council.png
END:VEVENT
BEGIN:VEVENT
DTSTART;TZID=America/Toronto:20241218T090000
DTEND;TZID=America/Toronto:20241218T160000
DTSTAMP:20260422T184311
CREATED:20241216T180950Z
LAST-MODIFIED:20241216T181050Z
UID:1090233-1734512400-1734537600@chapple.on.ca
SUMMARY:Regular Council Meeting
DESCRIPTION:To View Agenda\, Click here 
URL:https://chapple.on.ca/event/regular-council-meeting-10/
END:VEVENT
BEGIN:VEVENT
DTSTART;TZID=America/Toronto:20241217T130000
DTEND;TZID=America/Toronto:20241217T160000
DTSTAMP:20260422T184311
CREATED:20241216T181406Z
LAST-MODIFIED:20241216T214707Z
UID:1090236-1734440400-1734451200@chapple.on.ca
SUMMARY:Emergency Management Program Committee
DESCRIPTION:To view agenda\, click here
URL:https://chapple.on.ca/event/emergency-management-program-committee/
END:VEVENT
BEGIN:VEVENT
DTSTART;TZID=America/Winnipeg:20241112T090000
DTEND;TZID=America/Winnipeg:20241112T170000
DTSTAMP:20260422T184311
CREATED:20241021T152839Z
LAST-MODIFIED:20241021T152839Z
UID:1090173-1731402000-1731430800@chapple.on.ca
SUMMARY:Regular Council Meeting
DESCRIPTION:To view the agenda\, click here.
URL:https://chapple.on.ca/event/regular-council-meeting-9/
LOCATION:Council Chambers\, 54 Barwick Road\, Barwick
ATTACH;FMTTYPE=image/png:https://chapple.on.ca/wp-content/uploads/2023/07/Banner-Council.png
END:VEVENT
BEGIN:VEVENT
DTSTART;TZID=America/Winnipeg:20241008T090000
DTEND;TZID=America/Winnipeg:20241008T150000
DTSTAMP:20260422T184311
CREATED:20240925T165008Z
LAST-MODIFIED:20240925T165008Z
UID:1090141-1728378000-1728399600@chapple.on.ca
SUMMARY:Regular Council Meeting
DESCRIPTION:The agenda will be posted on by the Friday in advance of the council meeting. To view the agenda\, click here.
URL:https://chapple.on.ca/event/regular-council-meeting-8/
LOCATION:Council Chambers\, 54 Barwick Road\, Barwick
ATTACH;FMTTYPE=image/png:https://chapple.on.ca/wp-content/uploads/2023/07/Banner-Council.png
END:VEVENT
BEGIN:VEVENT
DTSTART;VALUE=DATE:20240930
DTEND;VALUE=DATE:20241001
DTSTAMP:20260422T184311
CREATED:20240925T164651Z
LAST-MODIFIED:20240925T164651Z
UID:1090139-1727654400-1727740799@chapple.on.ca
SUMMARY:Office\, Garage and Landfill Closure - National Day for Truth and Reconcilliation
DESCRIPTION:The Municipal Office\, Garage\, and Shenston Landfill will be closed on Monday\, September 30th for the National Day for Truth and Reconciliation. Regular operations will resume on Tuesday\, October 1st.
URL:https://chapple.on.ca/event/office-garage-and-landfill-closure-national-day-for-truth-and-reconcilliation/
ATTACH;FMTTYPE=image/jpeg:https://chapple.on.ca/wp-content/uploads/2023/11/gettyimages-1219081273-612x612-1.jpg
END:VEVENT
BEGIN:VEVENT
DTSTART;TZID=America/Winnipeg:20240923T090000
DTEND;TZID=America/Winnipeg:20240924T150000
DTSTAMP:20260422T184311
CREATED:20240918T151958Z
LAST-MODIFIED:20240918T152110Z
UID:1090102-1727082000-1727190000@chapple.on.ca
SUMMARY:Pipe Pick-Up Days @ Shenston Landfill
DESCRIPTION:
URL:https://chapple.on.ca/event/pipe-pick-up-days-shenston-landfill/
LOCATION:Shenston Landfill
ATTACH;FMTTYPE=image/jpeg:https://chapple.on.ca/wp-content/uploads/2024/09/metal-pipes-icon-cartoon-style-vector-30666908.jpg
END:VEVENT
BEGIN:VEVENT
DTSTART;TZID=America/Winnipeg:20240917T090000
DTEND;TZID=America/Winnipeg:20240917T170000
DTSTAMP:20260422T184311
CREATED:20240916T160124Z
LAST-MODIFIED:20240916T160124Z
UID:1090095-1726563600-1726592400@chapple.on.ca
SUMMARY:Special Council Meeting
DESCRIPTION:To view the agenda\, click here.
URL:https://chapple.on.ca/event/special-council-meeting-6/
LOCATION:Council Chambers\, 54 Barwick Road\, Barwick
ATTACH;FMTTYPE=image/png:https://chapple.on.ca/wp-content/uploads/2023/07/Banner-Council.png
END:VEVENT
BEGIN:VEVENT
DTSTART;TZID=America/Toronto:20240723T150000
DTEND;TZID=America/Toronto:20240723T160000
DTSTAMP:20260422T184311
CREATED:20240723T174903Z
LAST-MODIFIED:20240723T174903Z
UID:1090001-1721746800-1721750400@chapple.on.ca
SUMMARY:Special Council Meeting
DESCRIPTION:Please note that there will be a Special Council meeting July 23\, 2024 at 3pm in the Council Chambers\, located at 54 Barwick Road. For more information\, visit Chapple’s Civic Web Portal.
URL:https://chapple.on.ca/event/special-council-meeting-5/
LOCATION:Council Chambers\, 54 Barwick Road\, Barwick
ATTACH;FMTTYPE=image/png:https://chapple.on.ca/wp-content/uploads/2023/07/Banner-Council.png
END:VEVENT
BEGIN:VEVENT
DTSTART;VALUE=DATE:20240701
DTEND;VALUE=DATE:20240702
DTSTAMP:20260422T184311
CREATED:20240625T204203Z
LAST-MODIFIED:20240625T204203Z
UID:1089925-1719792000-1719878399@chapple.on.ca
SUMMARY:July 1st\, 2024 Closure
DESCRIPTION:Chapple Municipal Office/Garage & Shenston Landfill Site \nWill be closed Monday\, July 1st\, 2024
URL:https://chapple.on.ca/event/july-1st-2024-closure/
ATTACH;FMTTYPE=image/jpeg:https://chapple.on.ca/wp-content/uploads/2023/11/gettyimages-1219081273-612x612-1.jpg
END:VEVENT
BEGIN:VEVENT
DTSTART;VALUE=DATE:20240629
DTEND;VALUE=DATE:20240701
DTSTAMP:20260422T184311
CREATED:20240625T204532Z
LAST-MODIFIED:20240625T204738Z
UID:1089927-1719619200-1719791999@chapple.on.ca
SUMMARY:Canada Day Activities
DESCRIPTION:Canada Day Activities \nParade 12:00PM \nChildren’s Activities to follow at the Ball Park \nMuseum- Scavenger Hunt & Treats \nMen’s Fastball Tournament- (Saturday June 29th and Sunday 30th\, 2024) Food Truck & Gardens Available \n  \n 
URL:https://chapple.on.ca/event/canada-day-activities/
END:VEVENT
BEGIN:VEVENT
DTSTART;TZID=America/Toronto:20240612T080000
DTEND;TZID=America/Toronto:20240612T170000
DTSTAMP:20260422T184311
CREATED:20240527T144321Z
LAST-MODIFIED:20240527T153544Z
UID:1089755-1718179200-1718211600@chapple.on.ca
SUMMARY:Regular Council Meeting
DESCRIPTION:Click here to view the council meeting agenda. \nPlease note\, June’s regular council meeting has been moved from Tuesday\, June 11th to Wednesday\, June 12th.
URL:https://chapple.on.ca/event/regular-council-meeting-7/
LOCATION:Council Chambers\, 54 Barwick Road\, Barwick
ATTACH;FMTTYPE=image/png:https://chapple.on.ca/wp-content/uploads/2023/07/Banner-Council.png
END:VEVENT
END:VCALENDAR