BEGIN:VCALENDAR
VERSION:2.0
PRODID:-//Township of Chapple - ECPv6.15.20//NONSGML v1.0//EN
CALSCALE:GREGORIAN
METHOD:PUBLISH
X-ORIGINAL-URL:https://chapple.on.ca
X-WR-CALDESC:Events for Township of Chapple
REFRESH-INTERVAL;VALUE=DURATION:PT1H
X-Robots-Tag:noindex
X-PUBLISHED-TTL:PT1H
BEGIN:VTIMEZONE
TZID:America/Toronto
BEGIN:DAYLIGHT
TZOFFSETFROM:-0500
TZOFFSETTO:-0400
TZNAME:EDT
DTSTART:20250309T070000
END:DAYLIGHT
BEGIN:STANDARD
TZOFFSETFROM:-0400
TZOFFSETTO:-0500
TZNAME:EST
DTSTART:20251102T060000
END:STANDARD
BEGIN:DAYLIGHT
TZOFFSETFROM:-0500
TZOFFSETTO:-0400
TZNAME:EDT
DTSTART:20260308T070000
END:DAYLIGHT
BEGIN:STANDARD
TZOFFSETFROM:-0400
TZOFFSETTO:-0500
TZNAME:EST
DTSTART:20261101T060000
END:STANDARD
BEGIN:DAYLIGHT
TZOFFSETFROM:-0500
TZOFFSETTO:-0400
TZNAME:EDT
DTSTART:20270314T070000
END:DAYLIGHT
BEGIN:STANDARD
TZOFFSETFROM:-0400
TZOFFSETTO:-0500
TZNAME:EST
DTSTART:20271107T060000
END:STANDARD
END:VTIMEZONE
BEGIN:VEVENT
DTSTART;TZID=America/Toronto:20260307T100000
DTEND;TZID=America/Toronto:20260307T113000
DTSTAMP:20260422T190347
CREATED:20260305T155618Z
LAST-MODIFIED:20260305T155632Z
UID:1091021-1772877600-1772883000@chapple.on.ca
SUMMARY:Strategic Planning Committee meeting is Saturday\, March 7 at 10 AM
DESCRIPTION:Strategic Planning Committee meeting is Saturday\, March 7 at 10 AM \nSee you there!
URL:https://chapple.on.ca/event/strategic-planning-committee-meeting-is-saturday-march-7-at-10-am/
END:VEVENT
BEGIN:VEVENT
DTSTART;TZID=America/Toronto:20260307T100000
DTEND;TZID=America/Toronto:20260307T120000
DTSTAMP:20260422T190347
CREATED:20260202T204938Z
LAST-MODIFIED:20260202T205039Z
UID:1090942-1772877600-1772884800@chapple.on.ca
SUMMARY:Chapple Strategic Planning Committee Meeting
DESCRIPTION:Chapple Strategic Planning Committee \nMeeting date: Saturday\, March 7th\, 2026 \nTime: 10 am \nWhere: Barwick Community Centre \n104 Main St. Barwick\, ON \nEveryone is welcome! Come share your ideas\, learn what’s happening\, and be part of the conversation about the future of our community. This is an open\, friendly meeting and we’d love to see you there.
URL:https://chapple.on.ca/event/chapple-strategic-planning-committee/
END:VEVENT
BEGIN:VEVENT
DTSTART;VALUE=DATE:20260323
DTEND;VALUE=DATE:20260324
DTSTAMP:20260422T190347
CREATED:20260304T183904Z
LAST-MODIFIED:20260304T183904Z
UID:1091016-1774224000-1774310399@chapple.on.ca
SUMMARY:Office Closure – March 23\, 2026
DESCRIPTION:Office Closure – March 23\, 2026 \nDear Clients and Partners\,\nPlease be advised that our office will be closed on Monday\, March 23\, 2026\, for mandatory first aid training. We will reopen and resume regular operations on the following business day.\nThank you for your understanding.
URL:https://chapple.on.ca/event/office-closure-march-23-2026/
END:VEVENT
BEGIN:VEVENT
DTSTART;TZID=America/Toronto:20260325T180000
DTEND;TZID=America/Toronto:20260325T220000
DTSTAMP:20260422T190347
CREATED:20260126T213451Z
LAST-MODIFIED:20260126T213451Z
UID:1090895-1774461600-1774476000@chapple.on.ca
SUMMARY:Regular Council Meeting
DESCRIPTION:🗓️ Meeting Date: March 25th\, 2026 \n🕕 Time: 6:00 PM \n \n📍 Location: 54 Barwick Rd \n📄 Agenda Available: Friday before the meeting \n📣 Regular Council Meeting Agenda \nThe agenda for the upcoming council meeting will be posted Wednesday\, March 25th\, 2026. Be sure to check back then so you can stay informed and prepared. Click here to view the Agenda.
URL:https://chapple.on.ca/event/regular-council-meeting-18/
END:VEVENT
BEGIN:VEVENT
DTSTART;TZID=America/Toronto:20260403T080000
DTEND;TZID=America/Toronto:20260406T170000
DTSTAMP:20260422T190347
CREATED:20260126T213842Z
LAST-MODIFIED:20260126T213842Z
UID:1090899-1775203200-1775494800@chapple.on.ca
SUMMARY:Notice of Closure- Good Friday and Easter Monday
DESCRIPTION:🌼 Easter Holiday Closure 🌼 \nThe Municipal Office\, Garage\, and Landfill will be CLOSED on: \n\nFriday\, April 3rd\, 2026\nMonday\, April 6th\, 2026\n\nRegular hours will resume on the next business day. \nWishing everyone a safe and happy Easter!
URL:https://chapple.on.ca/event/notice-of-closure-good-friday-and-easter-monday/
END:VEVENT
BEGIN:VEVENT
DTSTART;TZID=America/Toronto:20260429T180000
DTEND;TZID=America/Toronto:20260429T220000
DTSTAMP:20260422T190347
CREATED:20260324T164210Z
LAST-MODIFIED:20260324T164210Z
UID:1090904-1777485600-1777500000@chapple.on.ca
SUMMARY:Regular Council Meeting
DESCRIPTION:🗓️ Meeting Date: April 29th\, 2026 \n🕕 Time: 6:00 PM \n \n📍 Location: 54 Barwick Rd \n📄 Agenda Available: Friday before the meeting \n📣 Regular Council Meeting Agenda \nThe agenda for the upcoming council meeting will be posted Wednesday\, April 29th\, 2026. Be sure to check back then so you can stay informed and prepared. Click here to view the Agenda.
URL:https://chapple.on.ca/event/regular-council-meeting-19/
END:VEVENT
BEGIN:VEVENT
DTSTART;TZID=America/Toronto:20260518T080000
DTEND;TZID=America/Toronto:20260518T170000
DTSTAMP:20260422T190347
CREATED:20260324T164144Z
LAST-MODIFIED:20260324T164144Z
UID:1090922-1779091200-1779123600@chapple.on.ca
SUMMARY:NOTICE OF CLOSURE
DESCRIPTION:NOTICE OF CLOSURE \nThe Municipal Office\, Public Works Garage\, and Landfill will be closed on May 18 in observance of Victoria Day. \nRegular hours will resume the following business day.
URL:https://chapple.on.ca/event/notice-of-closure/
END:VEVENT
BEGIN:VEVENT
DTSTART;TZID=America/Toronto:20260527T180000
DTEND;TZID=America/Toronto:20260527T220000
DTSTAMP:20260422T190347
CREATED:20260324T164854Z
LAST-MODIFIED:20260324T164854Z
UID:1090906-1779904800-1779919200@chapple.on.ca
SUMMARY:Regular Council Meeting
DESCRIPTION:🗓️ Meeting Date: May 27th\, 2026 \n🕕 Time: 6:00 PM \n \n📍 Location: 54 Barwick Rd \n📄 Agenda Available: Friday before the meeting \n📣 Regular Council Meeting Agenda \nThe agenda for the upcoming council meeting will be posted Wednesday\, May 27th\, 2026. Be sure to check back then so you can stay informed and prepared. Click here to view the Agenda.
URL:https://chapple.on.ca/event/regular-council-meeting-20/
END:VEVENT
BEGIN:VEVENT
DTSTART;TZID=America/Toronto:20260624T180000
DTEND;TZID=America/Toronto:20260624T220000
DTSTAMP:20260422T190347
CREATED:20260324T164911Z
LAST-MODIFIED:20260324T164911Z
UID:1090909-1782324000-1782338400@chapple.on.ca
SUMMARY:Regular Council Meeting
DESCRIPTION:🗓️ Meeting Date: June 24th\, 2026 \n🕕 Time: 6:00 PM \n \n📍 Location: 54 Barwick Rd \n📄 Agenda Available: Friday before the meeting \n📣 Regular Council Meeting Agenda \nThe agenda for the upcoming council meeting will be posted Wednesday\, June 24th\, 2026. Be sure to check back then so you can stay informed and prepared. Click here to view the Agenda.
URL:https://chapple.on.ca/event/regular-council-meeting-21/
END:VEVENT
BEGIN:VEVENT
DTSTART;TZID=America/Toronto:20260701T080000
DTEND;TZID=America/Toronto:20260701T170000
DTSTAMP:20260422T190347
CREATED:20260324T164940Z
LAST-MODIFIED:20260324T164940Z
UID:1090924-1782892800-1782925200@chapple.on.ca
SUMMARY:NOTICE OF CLOSURE
DESCRIPTION:🎆 NOTICE OF CLOSURE 🎆 \nThe Municipal Office\, Public Works Garage\, and Landfill will be closed on July 1 in observance of Canada Day. \nRegular hours will resume the following business day.
URL:https://chapple.on.ca/event/notice-of-closure-2/
END:VEVENT
BEGIN:VEVENT
DTSTART;TZID=America/Toronto:20260729T180000
DTEND;TZID=America/Toronto:20260729T220000
DTSTAMP:20260422T190347
CREATED:20260324T164956Z
LAST-MODIFIED:20260324T165209Z
UID:1090911-1785348000-1785362400@chapple.on.ca
SUMMARY:Regular Council Meeting
DESCRIPTION:🗓️ Meeting Date: July 29th\, 2026 \n🕕 Time: 6:00 PM \n \n📍 Location: 54 Barwick Rd \n📄 Agenda Available: Friday before the meeting \n📣 Regular Council Meeting Agenda \nThe agenda for the upcoming council meeting will be posted Wednesday\, July 29th\, 2026. Be sure to check back then so you can stay informed and prepared. Click here to view the Agenda.
URL:https://chapple.on.ca/event/regular-council-meeting-22/
END:VEVENT
BEGIN:VEVENT
DTSTART;TZID=America/Toronto:20260803T080000
DTEND;TZID=America/Toronto:20260803T170000
DTSTAMP:20260422T190347
CREATED:20260324T165003Z
LAST-MODIFIED:20260324T165003Z
UID:1090926-1785744000-1785776400@chapple.on.ca
SUMMARY:NOTICE OF CLOSURE 
DESCRIPTION:NOTICE OF CLOSURE \nThe Municipal Office\, Public Works Garage\, and Landfill will be closed on August 3 in observance of the Civic Holiday. \nRegular hours will resume the following business day. \n 
URL:https://chapple.on.ca/event/notice-of-closure-3/
END:VEVENT
BEGIN:VEVENT
DTSTART;TZID=America/Toronto:20260826T180000
DTEND;TZID=America/Toronto:20260826T220000
DTSTAMP:20260422T190347
CREATED:20260324T165014Z
LAST-MODIFIED:20260324T165014Z
UID:1090913-1787767200-1787781600@chapple.on.ca
SUMMARY:Regular Council Meeting
DESCRIPTION:🗓️ Meeting Date: August 26th\, 2026 \n🕕 Time: 6:00 PM \n \n📍 Location: 54 Barwick Rd \n📄 Agenda Available: Friday before the meeting \n📣 Regular Council Meeting Agenda \nThe agenda for the upcoming council meeting will be posted Wednesday\, August 26th\, 2026. Be sure to check back then so you can stay informed and prepared. Click here to view the Agenda.
URL:https://chapple.on.ca/event/regular-council-meeting-23/
END:VEVENT
END:VCALENDAR