BEGIN:VCALENDAR
VERSION:2.0
PRODID:-//Township of Chapple - ECPv6.15.20//NONSGML v1.0//EN
CALSCALE:GREGORIAN
METHOD:PUBLISH
X-WR-CALNAME:Township of Chapple
X-ORIGINAL-URL:https://chapple.on.ca
X-WR-CALDESC:Events for Township of Chapple
REFRESH-INTERVAL;VALUE=DURATION:PT1H
X-Robots-Tag:noindex
X-PUBLISHED-TTL:PT1H
BEGIN:VTIMEZONE
TZID:America/Toronto
BEGIN:DAYLIGHT
TZOFFSETFROM:-0500
TZOFFSETTO:-0400
TZNAME:EDT
DTSTART:20250309T070000
END:DAYLIGHT
BEGIN:STANDARD
TZOFFSETFROM:-0400
TZOFFSETTO:-0500
TZNAME:EST
DTSTART:20251102T060000
END:STANDARD
BEGIN:DAYLIGHT
TZOFFSETFROM:-0500
TZOFFSETTO:-0400
TZNAME:EDT
DTSTART:20260308T070000
END:DAYLIGHT
BEGIN:STANDARD
TZOFFSETFROM:-0400
TZOFFSETTO:-0500
TZNAME:EST
DTSTART:20261101T060000
END:STANDARD
BEGIN:DAYLIGHT
TZOFFSETFROM:-0500
TZOFFSETTO:-0400
TZNAME:EDT
DTSTART:20270314T070000
END:DAYLIGHT
BEGIN:STANDARD
TZOFFSETFROM:-0400
TZOFFSETTO:-0500
TZNAME:EST
DTSTART:20271107T060000
END:STANDARD
END:VTIMEZONE
BEGIN:VEVENT
DTSTART;TZID=America/Toronto:20260403T080000
DTEND;TZID=America/Toronto:20260406T170000
DTSTAMP:20260422T112938
CREATED:20260126T213842Z
LAST-MODIFIED:20260126T213842Z
UID:1090899-1775203200-1775494800@chapple.on.ca
SUMMARY:Notice of Closure- Good Friday and Easter Monday
DESCRIPTION:🌼 Easter Holiday Closure 🌼 \nThe Municipal Office\, Garage\, and Landfill will be CLOSED on: \n\nFriday\, April 3rd\, 2026\nMonday\, April 6th\, 2026\n\nRegular hours will resume on the next business day. \nWishing everyone a safe and happy Easter!
URL:https://chapple.on.ca/event/notice-of-closure-good-friday-and-easter-monday/
END:VEVENT
END:VCALENDAR