BEGIN:VCALENDAR
VERSION:2.0
PRODID:-//Township of Chapple - ECPv6.15.20//NONSGML v1.0//EN
CALSCALE:GREGORIAN
METHOD:PUBLISH
X-WR-CALNAME:Township of Chapple
X-ORIGINAL-URL:https://chapple.on.ca
X-WR-CALDESC:Events for Township of Chapple
REFRESH-INTERVAL;VALUE=DURATION:PT1H
X-Robots-Tag:noindex
X-PUBLISHED-TTL:PT1H
BEGIN:VTIMEZONE
TZID:America/Toronto
BEGIN:DAYLIGHT
TZOFFSETFROM:-0500
TZOFFSETTO:-0400
TZNAME:EDT
DTSTART:20240310T070000
END:DAYLIGHT
BEGIN:STANDARD
TZOFFSETFROM:-0400
TZOFFSETTO:-0500
TZNAME:EST
DTSTART:20241103T060000
END:STANDARD
BEGIN:DAYLIGHT
TZOFFSETFROM:-0500
TZOFFSETTO:-0400
TZNAME:EDT
DTSTART:20250309T070000
END:DAYLIGHT
BEGIN:STANDARD
TZOFFSETFROM:-0400
TZOFFSETTO:-0500
TZNAME:EST
DTSTART:20251102T060000
END:STANDARD
BEGIN:DAYLIGHT
TZOFFSETFROM:-0500
TZOFFSETTO:-0400
TZNAME:EDT
DTSTART:20260308T070000
END:DAYLIGHT
BEGIN:STANDARD
TZOFFSETFROM:-0400
TZOFFSETTO:-0500
TZNAME:EST
DTSTART:20261101T060000
END:STANDARD
END:VTIMEZONE
BEGIN:VEVENT
DTSTART;TZID=America/Toronto:20251210T180000
DTEND;TZID=America/Toronto:20251210T210000
DTSTAMP:20260423T014739
CREATED:20250819T145703Z
LAST-MODIFIED:20250819T150005Z
UID:1090319-1765389600-1765400400@chapple.on.ca
SUMMARY:Regular Council Meeting
DESCRIPTION:🗓️ Meeting Date: December 10th\, 2025 \n🕕 Time: 6:00 PM \n \n📍 Location: 54 Barwick Rd \n📄 Agenda Available: Friday before the meeting \n📣 Council Meeting Agenda \nThe agenda for the upcoming council meeting will be posted Friday\, December 5th\, 2025. Be sure to check back then so you can stay informed and prepared. Click here to view the Agenda.
URL:https://chapple.on.ca/event/regular-council-meeting-17/
END:VEVENT
END:VCALENDAR