BEGIN:VCALENDAR
VERSION:2.0
PRODID:-//Township of Chapple - ECPv6.15.20//NONSGML v1.0//EN
CALSCALE:GREGORIAN
METHOD:PUBLISH
X-ORIGINAL-URL:https://chapple.on.ca
X-WR-CALDESC:Events for Township of Chapple
REFRESH-INTERVAL;VALUE=DURATION:PT1H
X-Robots-Tag:noindex
X-PUBLISHED-TTL:PT1H
BEGIN:VTIMEZONE
TZID:America/Toronto
BEGIN:DAYLIGHT
TZOFFSETFROM:-0500
TZOFFSETTO:-0400
TZNAME:EDT
DTSTART:20240310T070000
END:DAYLIGHT
BEGIN:STANDARD
TZOFFSETFROM:-0400
TZOFFSETTO:-0500
TZNAME:EST
DTSTART:20241103T060000
END:STANDARD
BEGIN:DAYLIGHT
TZOFFSETFROM:-0500
TZOFFSETTO:-0400
TZNAME:EDT
DTSTART:20250309T070000
END:DAYLIGHT
BEGIN:STANDARD
TZOFFSETFROM:-0400
TZOFFSETTO:-0500
TZNAME:EST
DTSTART:20251102T060000
END:STANDARD
BEGIN:DAYLIGHT
TZOFFSETFROM:-0500
TZOFFSETTO:-0400
TZNAME:EDT
DTSTART:20260308T070000
END:DAYLIGHT
BEGIN:STANDARD
TZOFFSETFROM:-0400
TZOFFSETTO:-0500
TZNAME:EST
DTSTART:20261101T060000
END:STANDARD
END:VTIMEZONE
BEGIN:VEVENT
DTSTART;TZID=America/Toronto:20251111T080000
DTEND;TZID=America/Toronto:20251111T170000
DTSTAMP:20260424T083725
CREATED:20250825T175329Z
LAST-MODIFIED:20250825T175521Z
UID:1090659-1762848000-1762880400@chapple.on.ca
SUMMARY:🎖️ Closure Notice – Remembrance Day
DESCRIPTION:Please be advised that the Township of Chapple Municipal Office and Garage will be closed on Tuesday\, November 11\, 2025\, in honour of Remembrance Day. \nRegular operations will resume on Wednesday\, November 12\, 2025\, at 8:30 AM. \nOn this solemn day\, we pause to remember and honour the sacrifices of those who served and continue to serve our country. Lest we forget.
URL:https://chapple.on.ca/event/%f0%9f%8e%96%ef%b8%8f-closure-notice-remembrance-day/
END:VEVENT
END:VCALENDAR